BEGIN:VCALENDAR
VERSION:2.0
PRODID:icalendar-ruby
CALSCALE:GREGORIAN
METHOD:PUBLISH
BEGIN:VTIMEZONE
TZID:Australia/Perth
BEGIN:STANDARD
DTSTART:20090329T020000
TZOFFSETFROM:+0900
TZOFFSETTO:+0800
TZNAME:AWST
END:STANDARD
END:VTIMEZONE
BEGIN:VEVENT
DTSTAMP:20260420T004847Z
UID:inspection_3003616
DTSTART;TZID=Australia/Perth:20260421T171500
DTEND;TZID=Australia/Perth:20260421T174500
CLASS:PUBLIC
CREATED:20260419T183245
DESCRIPTION: 
LAST-MODIFIED:20260419T183245
LOCATION:26 Shannon Road\, DIANELLA WA 6059\, Australia
SUMMARY:26 Shannon Road\,  Inspection
URL;VALUE=URI:http://www.inhabitproperty.com.au
END:VEVENT
END:VCALENDAR
