BEGIN:VCALENDAR
VERSION:2.0
PRODID:icalendar-ruby
CALSCALE:GREGORIAN
METHOD:PUBLISH
BEGIN:VTIMEZONE
TZID:Australia/Perth
BEGIN:STANDARD
DTSTART:20090329T020000
TZOFFSETFROM:+0900
TZOFFSETTO:+0800
TZNAME:AWST
END:STANDARD
END:VTIMEZONE
BEGIN:VEVENT
DTSTAMP:20260421T021044Z
UID:inspection_3005565
DTSTART;TZID=Australia/Perth:20260425T130000
DTEND;TZID=Australia/Perth:20260425T133000
CLASS:PUBLIC
CREATED:20260420T140236
DESCRIPTION: 
LAST-MODIFIED:20260420T140236
LOCATION:2 / 187 Loftus Street\, LEEDERVILLE WA 6007\, Australia
SUMMARY:2 / 187 Loftus Street\,  Inspection
URL;VALUE=URI:http://www.inhabitproperty.com.au
END:VEVENT
END:VCALENDAR
