BEGIN:VCALENDAR
VERSION:2.0
PRODID:icalendar-ruby
CALSCALE:GREGORIAN
METHOD:PUBLISH
BEGIN:VTIMEZONE
TZID:Australia/Perth
BEGIN:STANDARD
DTSTART:20090329T020000
TZOFFSETFROM:+0900
TZOFFSETTO:+0800
TZNAME:AWST
END:STANDARD
END:VTIMEZONE
BEGIN:VEVENT
DTSTAMP:20260421T021121Z
UID:inspection_3006077
DTSTART;TZID=Australia/Perth:20260423T160000
DTEND;TZID=Australia/Perth:20260423T180000
CLASS:PUBLIC
CREATED:20260420T154720
DESCRIPTION: 
LAST-MODIFIED:20260420T154720
LOCATION:Green Title Homes / 1 Saintly Entrance\, BURSWOOD WA 6100\, Austra
 lia
SUMMARY:Green Title Homes / 1 Saintly Entrance\,  Inspection
URL;VALUE=URI:http://www.inhabitproperty.com.au
END:VEVENT
END:VCALENDAR
