BEGIN:VCALENDAR
VERSION:2.0
PRODID:icalendar-ruby
CALSCALE:GREGORIAN
METHOD:PUBLISH
BEGIN:VTIMEZONE
TZID:Australia/Perth
BEGIN:STANDARD
DTSTART:20090329T020000
TZOFFSETFROM:+0900
TZOFFSETTO:+0800
TZNAME:AWST
END:STANDARD
END:VTIMEZONE
BEGIN:VEVENT
DTSTAMP:20260421T020927Z
UID:inspection_3006340
DTSTART;TZID=Australia/Perth:20260426T110000
DTEND;TZID=Australia/Perth:20260426T112000
CLASS:PUBLIC
CREATED:20260421T011749
DESCRIPTION: 
LAST-MODIFIED:20260421T011749
LOCATION:132 / 311 Hay Street\, EAST PERTH WA 6004\, Australia
SUMMARY:132 / 311 Hay Street\,  Inspection
URL;VALUE=URI:http://www.inhabitproperty.com.au
END:VEVENT
END:VCALENDAR
