BEGIN:VCALENDAR
VERSION:2.0
PRODID:icalendar-ruby
CALSCALE:GREGORIAN
METHOD:PUBLISH
BEGIN:VTIMEZONE
TZID:Australia/Perth
BEGIN:STANDARD
DTSTART:20090329T020000
TZOFFSETFROM:+0900
TZOFFSETTO:+0800
TZNAME:AWST
END:STANDARD
END:VTIMEZONE
BEGIN:VEVENT
DTSTAMP:20260421T040521Z
UID:inspection_3007138
DTSTART;TZID=Australia/Perth:20260422T170000
DTEND;TZID=Australia/Perth:20260422T173000
CLASS:PUBLIC
CREATED:20260421T101733
DESCRIPTION: 
LAST-MODIFIED:20260421T101733
LOCATION:909 / 659 Murray Street\, WEST PERTH WA 6005\, Australia
SUMMARY:909 / 659 Murray Street\,  Inspection
URL;VALUE=URI:http://www.inhabitproperty.com.au
END:VEVENT
END:VCALENDAR
