BEGIN:VCALENDAR
VERSION:2.0
PRODID:icalendar-ruby
CALSCALE:GREGORIAN
METHOD:PUBLISH
BEGIN:VTIMEZONE
TZID:Australia/Perth
BEGIN:STANDARD
DTSTART:20090329T020000
TZOFFSETFROM:+0900
TZOFFSETTO:+0800
TZNAME:AWST
END:STANDARD
END:VTIMEZONE
BEGIN:VEVENT
DTSTAMP:20260424T043819Z
UID:inspection_3007205
DTSTART;TZID=Australia/Perth:20260425T110000
DTEND;TZID=Australia/Perth:20260425T113000
CLASS:PUBLIC
CREATED:20260421T103227
DESCRIPTION: 
LAST-MODIFIED:20260421T103227
LOCATION:2207 / 1 Geoffrey Bolton Avenue\, PERTH WA 6000\, Australia
SUMMARY:2207 / 1 Geoffrey Bolton Avenue\,  Inspection
URL;VALUE=URI:http://www.inhabitproperty.com.au
END:VEVENT
END:VCALENDAR
