BEGIN:VCALENDAR
VERSION:2.0
PRODID:icalendar-ruby
CALSCALE:GREGORIAN
METHOD:PUBLISH
BEGIN:VTIMEZONE
TZID:Australia/Perth
BEGIN:STANDARD
DTSTART:20090329T020000
TZOFFSETFROM:+0900
TZOFFSETTO:+0800
TZNAME:AWST
END:STANDARD
END:VTIMEZONE
BEGIN:VEVENT
DTSTAMP:20260424T043851Z
UID:inspection_3009123
DTSTART;TZID=Australia/Perth:20260425T101500
DTEND;TZID=Australia/Perth:20260425T103500
CLASS:PUBLIC
CREATED:20260422T110531
DESCRIPTION: 
LAST-MODIFIED:20260422T110531
LOCATION:303 / 38 Cygnus Parade\, WATERFORD WA 6152\, Australia
SUMMARY:303 / 38 Cygnus Parade\,  Inspection
URL;VALUE=URI:http://www.inhabitproperty.com.au
END:VEVENT
END:VCALENDAR
