BEGIN:VCALENDAR
VERSION:2.0
PRODID:icalendar-ruby
CALSCALE:GREGORIAN
METHOD:PUBLISH
BEGIN:VTIMEZONE
TZID:Australia/Perth
BEGIN:STANDARD
DTSTART:20090329T020000
TZOFFSETFROM:+0900
TZOFFSETTO:+0800
TZNAME:AWST
END:STANDARD
END:VTIMEZONE
BEGIN:VEVENT
DTSTAMP:20260424T043916Z
UID:inspection_3009124
DTSTART;TZID=Australia/Perth:20260425T110000
DTEND;TZID=Australia/Perth:20260425T112000
CLASS:PUBLIC
CREATED:20260422T110532
DESCRIPTION: 
LAST-MODIFIED:20260422T110532
LOCATION:14 / 1 Delhi Street\, WEST PERTH WA 6005\, Australia
SUMMARY:14 / 1 Delhi Street\,  Inspection
URL;VALUE=URI:http://www.inhabitproperty.com.au
END:VEVENT
END:VCALENDAR
