BEGIN:VCALENDAR
VERSION:2.0
PRODID:icalendar-ruby
CALSCALE:GREGORIAN
METHOD:PUBLISH
BEGIN:VTIMEZONE
TZID:Australia/Perth
BEGIN:STANDARD
DTSTART:20090329T020000
TZOFFSETFROM:+0900
TZOFFSETTO:+0800
TZNAME:AWST
END:STANDARD
END:VTIMEZONE
BEGIN:VEVENT
DTSTAMP:20260424T043819Z
UID:inspection_3012286
DTSTART;TZID=Australia/Perth:20260425T100000
DTEND;TZID=Australia/Perth:20260425T103000
CLASS:PUBLIC
CREATED:20260424T093252
DESCRIPTION: 
LAST-MODIFIED:20260424T093252
LOCATION:21 Match View\, TWO ROCKS WA 6037\, Australia
SUMMARY:21 Match View\,  Inspection
URL;VALUE=URI:http://www.inhabitproperty.com.au
END:VEVENT
END:VCALENDAR
